BEGIN:VCALENDAR
VERSION:2.0
PRODID:-//Ridgefield Conservatory of Dance - ECPv6.15.19//NONSGML v1.0//EN
CALSCALE:GREGORIAN
METHOD:PUBLISH
X-WR-CALNAME:Ridgefield Conservatory of Dance
X-ORIGINAL-URL:https://ftp.ridgefielddance.org
X-WR-CALDESC:Events for Ridgefield Conservatory of Dance
REFRESH-INTERVAL;VALUE=DURATION:PT1H
X-Robots-Tag:noindex
X-PUBLISHED-TTL:PT1H
BEGIN:VTIMEZONE
TZID:America/New_York
BEGIN:DAYLIGHT
TZOFFSETFROM:-0500
TZOFFSETTO:-0400
TZNAME:EDT
DTSTART:20250309T070000
END:DAYLIGHT
BEGIN:STANDARD
TZOFFSETFROM:-0400
TZOFFSETTO:-0500
TZNAME:EST
DTSTART:20251102T060000
END:STANDARD
BEGIN:DAYLIGHT
TZOFFSETFROM:-0500
TZOFFSETTO:-0400
TZNAME:EDT
DTSTART:20260308T070000
END:DAYLIGHT
BEGIN:STANDARD
TZOFFSETFROM:-0400
TZOFFSETTO:-0500
TZNAME:EST
DTSTART:20261101T060000
END:STANDARD
BEGIN:DAYLIGHT
TZOFFSETFROM:-0500
TZOFFSETTO:-0400
TZNAME:EDT
DTSTART:20270314T070000
END:DAYLIGHT
BEGIN:STANDARD
TZOFFSETFROM:-0400
TZOFFSETTO:-0500
TZNAME:EST
DTSTART:20271107T060000
END:STANDARD
END:VTIMEZONE
BEGIN:VEVENT
DTSTART;TZID=America/New_York:20260421T153000
DTEND;TZID=America/New_York:20260421T170000
DTSTAMP:20260421T060849
CREATED:20250627T164717Z
LAST-MODIFIED:20250701T160147Z
UID:10003966-1776785400-1776790800@ftp.ridgefielddance.org
SUMMARY:Tuesday Ballet V
DESCRIPTION:
URL:https://ftp.ridgefielddance.org/class/tuesday-ballet-v-5/2026-04-21/
LOCATION:Main Street Studios\, 440 Main Street (Route 35)\, Ridgefield\, CT\, 06877\, United States
CATEGORIES:Classes
END:VEVENT
BEGIN:VEVENT
DTSTART;TZID=America/New_York:20260421T160000
DTEND;TZID=America/New_York:20260421T163000
DTSTAMP:20260421T060849
CREATED:20250627T164732Z
LAST-MODIFIED:20250701T160046Z
UID:10003934-1776787200-1776789000@ftp.ridgefielddance.org
SUMMARY:Tuesday Dance for 3s & 4s Independent
DESCRIPTION:
URL:https://ftp.ridgefielddance.org/class/tuesday-dance-for-3s-4s-independent-2/2026-04-21/
LOCATION:Main Street Studios\, 440 Main Street (Route 35)\, Ridgefield\, CT\, 06877\, United States
CATEGORIES:Classes
END:VEVENT
BEGIN:VEVENT
DTSTART;TZID=America/New_York:20260421T163000
DTEND;TZID=America/New_York:20260421T171500
DTSTAMP:20260421T060849
CREATED:20250627T164802Z
LAST-MODIFIED:20250825T141704Z
UID:10003789-1776789000-1776791700@ftp.ridgefielddance.org
SUMMARY:Tuesday Pre-Ballet for Pre-K & Kindergarten
DESCRIPTION:
URL:https://ftp.ridgefielddance.org/class/tuesday-pre-ballet-for-pre-k-2/2026-04-21/
LOCATION:Main Street Studios\, 440 Main Street (Route 35)\, Ridgefield\, CT\, 06877\, United States
CATEGORIES:Classes
END:VEVENT
BEGIN:VEVENT
DTSTART;TZID=America/New_York:20260421T170000
DTEND;TZID=America/New_York:20260421T174500
DTSTAMP:20260421T060849
CREATED:20250627T164747Z
LAST-MODIFIED:20250701T155808Z
UID:10003853-1776790800-1776793500@ftp.ridgefielddance.org
SUMMARY:Tuesday Pointe V Beginner
DESCRIPTION:
URL:https://ftp.ridgefielddance.org/class/tuesday-pointe-v-beginner-2/2026-04-21/
LOCATION:Main Street Studios\, 440 Main Street (Route 35)\, Ridgefield\, CT\, 06877\, United States
CATEGORIES:Classes
END:VEVENT
BEGIN:VEVENT
DTSTART;TZID=America/New_York:20260421T171500
DTEND;TZID=America/New_York:20260421T180000
DTSTAMP:20260421T060849
CREATED:20250627T164747Z
LAST-MODIFIED:20250701T155742Z
UID:10003837-1776791700-1776794400@ftp.ridgefielddance.org
SUMMARY:Tuesday Hip Hop Mini
DESCRIPTION:
URL:https://ftp.ridgefielddance.org/class/tuesday-hip-hop-mini-2/2026-04-21/
LOCATION:Main Street Studios\, 440 Main Street (Route 35)\, Ridgefield\, CT\, 06877\, United States
CATEGORIES:Classes
END:VEVENT
BEGIN:VEVENT
DTSTART;TZID=America/New_York:20260421T174500
DTEND;TZID=America/New_York:20260421T191500
DTSTAMP:20260421T060849
CREATED:20250627T164732Z
LAST-MODIFIED:20250701T155943Z
UID:10003901-1776793500-1776798900@ftp.ridgefielddance.org
SUMMARY:Tuesday Ballet VI
DESCRIPTION:
URL:https://ftp.ridgefielddance.org/class/tuesday-ballet-vi-2/2026-04-21/
LOCATION:Main Street Studios\, 440 Main Street (Route 35)\, Ridgefield\, CT\, 06877\, United States
CATEGORIES:Classes
END:VEVENT
BEGIN:VEVENT
DTSTART;TZID=America/New_York:20260421T190000
DTEND;TZID=America/New_York:20260421T200000
DTSTAMP:20260421T060849
CREATED:20250627T164747Z
LAST-MODIFIED:20250819T144624Z
UID:10003821-1776798000-1776801600@ftp.ridgefielddance.org
SUMMARY:Tuesday Hip Hop Beginner/Intermediate
DESCRIPTION:
URL:https://ftp.ridgefielddance.org/class/tuesday-hip-hop-intermediate-2/2026-04-21/
LOCATION:Main Street Studios\, 440 Main Street (Route 35)\, Ridgefield\, CT\, 06877\, United States
CATEGORIES:Classes
END:VEVENT
BEGIN:VEVENT
DTSTART;TZID=America/New_York:20260421T191500
DTEND;TZID=America/New_York:20260421T200000
DTSTAMP:20260421T060849
CREATED:20250627T164747Z
LAST-MODIFIED:20250701T155636Z
UID:10003805-1776798900-1776801600@ftp.ridgefielddance.org
SUMMARY:Tuesday Pointe VI
DESCRIPTION:
URL:https://ftp.ridgefielddance.org/class/tuesday-pointe-vi-2/2026-04-21/
LOCATION:Main Street Studios\, 440 Main Street (Route 35)\, Ridgefield\, CT\, 06877\, United States
CATEGORIES:Classes
END:VEVENT
BEGIN:VEVENT
DTSTART;TZID=America/New_York:20260421T200000
DTEND;TZID=America/New_York:20260421T210000
DTSTAMP:20260421T060849
CREATED:20250627T164732Z
LAST-MODIFIED:20250701T155905Z
UID:10003885-1776801600-1776805200@ftp.ridgefielddance.org
SUMMARY:Tuesday Hip Hop Advanced
DESCRIPTION:
URL:https://ftp.ridgefielddance.org/class/tuesday-hip-hop-advanced-2/2026-04-21/
LOCATION:Main Street Studios\, 440 Main Street (Route 35)\, Ridgefield\, CT\, 06877\, United States
CATEGORIES:Classes
END:VEVENT
END:VCALENDAR